BEGIN:VCALENDAR
VERSION:2.0
PRODID:-//wp-events-plugin.com//7.2.3.1//EN
TZID:Europe/Berlin
X-WR-TIMEZONE:Europe/Berlin
BEGIN:VEVENT
UID:33@pfalzsaar.fau.org
DTSTART;TZID=Europe/Berlin:20251105T170000
DTEND;TZID=Europe/Berlin:20251105T210000
DTSTAMP:20251024T055804Z
URL:https://pfalzsaar.fau.org/events/offenes-treffen-kneipenabend-mit-der-
 freien-arbeiterinnen-union/
SUMMARY:Offenes Treffen & Kneipenabend mit der Freien Arbeiter*innen Union
DESCRIPTION:Am Mittwoch den\, 05.11. um 17 Uhr laden wir euch herzlich zu e
 inem gemütlichen Kneipenabend mit offenen Treffen im Gasthaus Bingert (Sa
 arbrücken) ein!\nOb du schon Mitglied bist\, dich für die FAU interessie
 rst oder einfach mal vorbeischauen möchtest – alle sind willkommen! Wir
  freuen uns auf lockere Gespräche\, Austausch und gute Stimmung.\n📍 Wo
 ? Gasthaus Bingert\, Saarbrücken\n📅 Wann? 05.11.\, 17 Uhr\nKommt vorbe
 i – wir sehen uns da! ✊
END:VEVENT
BEGIN:VTIMEZONE
TZID:Europe/Berlin
X-LIC-LOCATION:Europe/Berlin
BEGIN:STANDARD
DTSTART:20251026T020000
TZOFFSETFROM:+0200
TZOFFSETTO:+0100
TZNAME:CET
END:STANDARD
END:VTIMEZONE
END:VCALENDAR