BEGIN:VCALENDAR
VERSION:2.0
PRODID:-//wp-events-plugin.com//7.2.3.1//EN
TZID:Europe/Berlin
X-WR-TIMEZONE:Europe/Berlin
BEGIN:VEVENT
UID:34@pfalzsaar.fau.org
DTSTART;TZID=Europe/Berlin:20260225T180000
DTEND;TZID=Europe/Berlin:20260225T213000
DTSTAMP:20260214T111729Z
URL:https://pfalzsaar.fau.org/events/offenes-treffen-kneipenabend-mit-der-
 freien-arbeiterinnen-union-ii/
SUMMARY:Offenes Treffen & Kneipenabend mit der Freien Arbeiter*innen Union 
 II
DESCRIPTION:Offenes Treffen &amp\; Kneipenabend mit der Freien Arbeiter*inn
 en Union II\nAm Mittwoch den\, 25.02. um 18 Uhr laden wir euch erneut herz
 lich zu einem gemütlichen Kneipenabend mit offenen Treffen im Gasthaus Bi
 ngert (Saarbrücken) ein!\nOb du schon Mitglied bist\, dich für die FAU i
 nteressierst oder einfach mal vorbeischauen möchtest – alle sind willko
 mmen! Wir freuen uns auf lockere Gespräche\, Austausch und gute Stimmung.
 \n\n📍 Wo? Gasthaus Bingert\, Saarbrücken\n📅 Wann? 25.02.\, 18 Uhr\n
 Kommt vorbei – wir sehen uns da! ✊
END:VEVENT
BEGIN:VTIMEZONE
TZID:Europe/Berlin
X-LIC-LOCATION:Europe/Berlin
BEGIN:STANDARD
DTSTART:20251026T020000
TZOFFSETFROM:+0200
TZOFFSETTO:+0100
TZNAME:CET
END:STANDARD
END:VTIMEZONE
END:VCALENDAR