BEGIN:VCALENDAR
VERSION:2.0
PRODID:-//wp-events-plugin.com//7.2.3.1//EN
TZID:Europe/Berlin
X-WR-TIMEZONE:Europe/Berlin
BEGIN:VEVENT
UID:35@pfalzsaar.fau.org
DTSTART;TZID=Europe/Berlin:20260422T190000
DTEND;TZID=Europe/Berlin:20260422T214500
DTSTAMP:20260415T170850Z
URL:https://pfalzsaar.fau.org/events/offenes-treffen-der-fau-pfalz-saar-mi
 t-spaghetti-essen/
SUMMARY:Offenes Treffen der FAU Pfalz/Saar mit Spaghetti-Essen
DESCRIPTION:\n\nAm Mittwoch\, den 22.04.\, ab 19 Uhr lädt die FAU Pfalz/ S
 aar alle Mitglieder\, FAU-Interessierte und Spaghetti-Liebende herzlich zu
 m offenen Treffen und gemeinsamen Spaghetti-Essen in die Commune ein.\nIn 
 Kooperation mit dem "Futter 4 All"-Kollektiv schwingt die FAU den Kochlöf
 fel und bereitet Spaghetti mit veganer Tomatensauce zu. Über Spenden freu
 t sich der Hausverein der Commune.\nKommt vorbei\, esst mit uns und verbri
 ngt einen entspannten Abend in solidarischer Atmosphäre.\nBringt gerne Fr
 eund*innen oder Interessierte mit.\n\nWo? Commune\, Futterstr. 4 in Saarbr
 ücken\nWann? Mittwoch\, den 22.04. um 19 Uhr\n\nWir freuen uns auf euch.\
 n
END:VEVENT
BEGIN:VTIMEZONE
TZID:Europe/Berlin
X-LIC-LOCATION:Europe/Berlin
BEGIN:DAYLIGHT
DTSTART:20260329T030000
TZOFFSETFROM:+0100
TZOFFSETTO:+0200
TZNAME:CEST
END:DAYLIGHT
END:VTIMEZONE
END:VCALENDAR