BEGIN:VCALENDAR
VERSION:2.0
PRODID:-//wp-events-plugin.com//7.2.3.1//EN
TZID:Europe/Berlin
X-WR-TIMEZONE:Europe/Berlin
BEGIN:VEVENT
UID:32@pfalzsaar.fau.org
DTSTART;TZID=Europe/Berlin:20250614T111500
DTEND;TZID=Europe/Berlin:20250614T160000
DTSTAMP:20250602T051912Z
URL:https://pfalzsaar.fau.org/events/14-06-2025-wanderung-mit-der-fau-pfal
 z-saar/
SUMMARY:14.06.2025. Wanderung mit der FAU Pfalz-Saar
DESCRIPTION:Raus in die Natur mit der FAU Pfalz-Saar! Alle Genoss*innen und
  Interessierten sind herzlich eingeladen mit uns auf Wanderschaft zu gehen
 .n\n\nFür Menschen\, die an der FAU oder Gewerkschaftsarbeit generell int
 eressiert sind\, ist es eine schöne Möglichkeit mit dem Syndikat in Kont
 akt zu kommen.\n\nBringt gerne Essen und Trinken für ein gemeinsames Mitt
 agessen mit.\n\nDer Termin ist Samstag\, der 14.06.25. Treffpunkt ist um 1
 1:15 Uhr am Rathaus Saarbrücken oder wenn ihr direkt kommen wollt\, um 11
 :45 Uhr an der Haltestelle Dudweiler Hirschbach.\n\nDie FAU Pfalz-Saar fre
 ut sich auf euch 🖤\n\nHier die Daten der Wanderung:\n\nRundgang “Bren
 nender Berg” in Dudweiler\nLänge: 8\,8 km\nStartpunkt:\nErreichbar mit 
 Bus: Treffpunkt Rathaus\, Saarbrücken um 11:15 h\noder direkt vor Ort: Tr
 effpunkt Haltestelle Hirschbach\, Dudweiler um 11:45 h
ATTACH;FMTTYPE=image/jpeg:https://pfalzsaar.fau.org/wp-content/uploads/202
 5/05/Wanderung-14_05.png
CATEGORIES:Freizeitsangebot
END:VEVENT
BEGIN:VTIMEZONE
TZID:Europe/Berlin
X-LIC-LOCATION:Europe/Berlin
BEGIN:DAYLIGHT
DTSTART:20250330T030000
TZOFFSETFROM:+0100
TZOFFSETTO:+0200
TZNAME:CEST
END:DAYLIGHT
END:VTIMEZONE
END:VCALENDAR